BEGIN:VCALENDAR
VERSION:2.0
PRODID:-//wp-events-plugin.com//7.2.3.1//EN
BEGIN:VEVENT
UID:9@nickmennell.com
DTSTART:20240511T093000Z
DTEND:20240512T173000Z
DTSTAMP:20240227T210534Z
URL:https://nickmennell.com/events/dubai/
SUMMARY:DUBAI
DESCRIPTION:Details coming soon... 
END:VEVENT
END:VCALENDAR