BEGIN:VCALENDAR
VERSION:2.0
PRODID:-//wp-events-plugin.com//7.2.3.1//EN
BEGIN:VEVENT
UID:6@nickmennell.com
DTSTART:20240216T153000Z
DTEND:20240218T233000Z
DTSTAMP:20240227T204615Z
URL:https://nickmennell.com/events/miami-coherence/
SUMMARY:MIAMI COHERENCE
DESCRIPTION:Phenomenal Coherence-based event with yoga\, sound baths\, ecst
 atic dance and lectures reviewing the updated science of well being.
END:VEVENT
END:VCALENDAR