BEGIN:VCALENDAR
VERSION:2.0
PRODID:-//wp-events-plugin.com//7.2.3.1//EN
BEGIN:VEVENT
UID:3@nickmennell.com
DTSTART;TZID=Europe/Luxembourg:20230429T090000
DTEND;TZID=Europe/Luxembourg:20230430T170000
DTSTAMP:20230330T101143Z
URL:https://nickmennell.com/events/ncs-luxembourg/
SUMMARY:NCS: LUXEMBOURG
DESCRIPTION:Upcoming at the end of April: Dr Joe Dispenza CHANGE YOUR MIND.
 ..CREATE NEW RESULTS\nIn a world that demands constant change and innovati
 on to stay ahead of the curve\, the question is\, ‘how’ do we think di
 fferently and ‘how’ do we change?\nBased on the latest research in the
  science of change\, Nick Mennell brings to leaders across the globe the i
 nformation and tools necessary to transform themselves\, their friends &am
 p\; families\, their teams and their entire organizations. This interactiv
 e two-day course is based on the principles of Dr Joe Dispenza’s groundb
 reaking work and his scientific research on personal transformation.\nBy u
 nderstanding some of the basic principles of neuroplasticity and human beh
 avior\, individuals and organizations across the world are creating breakt
 hroughs and empowering themselves to tackle some of today’s biggest chal
 lenges. Armed with these tools\, people and organizations are increasing t
 heir effectiveness at every corporate level with clear measurable outcomes
 : ROI and ROE.\nIn this two-day course\, Nick will provide brain-based\, o
 utcome-driven methodologies and frameworks that will help you facilitate p
 ositive change and lead more effectively.\nCHANGE YOUR MIND...CREATE NEW R
 ESULTS is the only global training designed by Dr Joe Dispenza. This inter
 active event guides leading individuals through a personalized process usi
 ng Dr Joe's models and tools to change their thinking and create the resul
 ts they desire.\nBy participating in this event\, we ask that you bring yo
 ur biggest goals\, challenges and habits you wish to achieve/change/overco
 me. In this course\, you will learn how to change your thinking to effecti
 vely lead yourself and others to success.\nMost importantly in these chall
 enging times\, your investment by attending is DONATION-BASED (meaning you
  may pay what you will with a ‘suggested donation’ of €495\, which i
 s an average enrollment fee for this training). This is to allow the oppor
 tunity for as many as possible to attend regardless of current financial c
 onditions or means. However\, to be fair to everyone\, to reserve your spa
 ce and the materials for the workshop\, a MINIMUM DONATION OF €250 is re
 quired. You’ll be happy to know that this investment in yourself is risk
 -free: if\, for whatever reason\, you are not satisfied with the event\, w
 e will happily refund as long as you return the materials. \nPlaces are li
 mited so sign up now and looking forward to welcoming you to our event in 
 Luxembourg! \nTestimonials:\n"My life has become so amazing. The people in
  it\, the places I've gone\, the things I've learned\, the extent to which
  I've grown... it is a DIRECT effect of these teachings. Literally in tear
 s as I write this." \n"Changed my life in the most incredible way."\n"Such
  a wonderful weekend diving deeper into Dr. Joe's work." \n"An amazing wee
 kend." \n"You've touched each of our lives in the most perfect beautiful w
 ay!"\n"I have been so privileged to attend this training - it was remarkab
 ly transformational."\nParticipants of this course will receive:\n• CHAN
 GE YOUR MIND...CREATE NEW RESULTS Workbook written by Dr Joe Dispenza.\n
 • CHANGE YOUR MIND...CREATE NEW RESULTS 30 Days to Genius Journal\, a po
 werful guide for the 30 days following the completion of the course.\n• 
 Audio downloadable files of all videos shown of Dr Joe Dispenza during the
  course.\n• Audio downloadable files of two meditations shared during th
 e course\, for your personal use.\n(Please note these workbooks and medita
 tions are not available for purchase at any other course or event.)\nSome 
 of the knowledge obtained through this course:\n• What is change?\n• H
 ow to implement a simple formula to begin making changes in your life\n•
  How to think greater than your body\n• How to think greater than your e
 nvironment\n• How to think greater than time\n• How to move from livin
 g in survival to living in creation\n• Understanding your 3 brains that 
 allow you to go from Thinking to Doing to Being and how to access your suc
 cess “sweet spot”\n• How to change your brainwaves for optimal perfo
 rmance\n• How to design your successful future self\n• How to create y
 our personal 30 days to Genius plan\n\n\n[caption id="attachment_1452" ali
 gn="alignnone" width="300"] Dr. Joe Dispenza speaking on stage at a Neuro 
 Change Solutions event.[/caption]
ATTACH;FMTTYPE=image/jpeg:https://nickmennell.com/wp-content/uploads/2023/
 02/Eventbrite_Banner_-_2021-02-03.jpg
CATEGORIES:motivation,NCS Workshop
END:VEVENT
BEGIN:VTIMEZONE
TZID:Europe/Luxembourg
X-LIC-LOCATION:Europe/Luxembourg
BEGIN:DAYLIGHT
DTSTART:20230326T030000
TZOFFSETFROM:+0100
TZOFFSETTO:+0200
TZNAME:CEST
END:DAYLIGHT
END:VTIMEZONE
END:VCALENDAR