BEGIN:VCALENDAR
VERSION:2.0
PRODID:-//wp-events-plugin.com//7.2.3.1//EN
BEGIN:VEVENT
UID:4@nickmennell.com
DTSTART;TZID=America/New_York:20230422T090000
DTEND;TZID=America/New_York:20230423T170000
DTSTAMP:20230330T100840Z
URL:https://nickmennell.com/events/ncs-new-york/
SUMMARY:NCS: NEW YORK
DESCRIPTION:https://www.eventbrite.com/myevent?eid=593634836777\nUpcoming i
 n New York City in April: Dr Joe Dispenza CHANGE YOUR MIND…CREATE NEW RE
 SULTS\nIn a world that demands constant change and innovation to stay ahea
 d of the curve\, the question is\, ‘how’ do we think differently and 
 ‘how’ do we change?\nBased on the latest research in the science of ch
 ange\, Nick Mennell brings to leaders across the globe the information and
  tools necessary to transform themselves\, their friends &amp\; families\,
  their teams and their entire organizations. This interactive two-day cour
 se is based on the principles of Dr Joe Dispenza’s groundbreaking work a
 nd his scientific research on personal transformation.\nBy understanding s
 ome of the basic principles of neuroplasticity and human behavior\, indivi
 duals and organizations across the world are creating breakthroughs and em
 powering themselves to tackle some of today’s biggest challenges. Armed 
 with these tools\, people and organizations are increasing their effective
 ness at every corporate level with clear measurable outcomes: ROI and ROE.
 \nIn this two-day course\, Nick will provide brain-based\, outcome-driven 
 methodologies and frameworks that will help you facilitate positive change
  and lead more effectively.\nCHANGE YOUR MIND…CREATE NEW RESULTS is the 
 only global training designed by Dr Joe Dispenza. This interactive event g
 uides leading individuals through a personalized process using Dr Joe’s 
 models and tools to change their thinking and create the results they desi
 re.\nBy participating in this event\, we ask that you bring your biggest g
 oals\, challenges and habits you wish to achieve/change/overcome. In this 
 course\, you will learn how to change your thinking to effectively lead yo
 urself and others to success.\nMost importantly in these challenging times
 \, your investment by attending is DONATION-BASED (meaning you may pay wha
 t you will with a ‘suggested donation’ of €495\, which is an average
  enrollment fee for this training). This is to allow the opportunity for a
 s many as possible to attend regardless of current financial conditions or
  means. However\, to be fair to everyone\, to reserve your space and the m
 aterials for the workshop\, a MINIMUM DONATION OF €250 is required. You
 ’ll be happy to know that this investment in yourself is risk-free: if\,
  for whatever reason\, you are not satisfied with the event\, we will happ
 ily refund as long as you return the materials.\nPlaces are limited so sig
 n up now and looking forward to welcoming you to our event in Luxembourg!\
 nTestimonials:\n“My life has become so amazing. The people in it\, the p
 laces I’ve gone\, the things I’ve learned\, the extent to which I’ve
  grown… it is a DIRECT effect of these teachings. Literally in tears as 
 I write this.”\n“Changed my life in the most incredible way.”\n“Su
 ch a wonderful weekend diving deeper into Dr. Joe’s work.”\n“An amaz
 ing weekend.”\n“You’ve touched each of our lives in the most perfect
  beautiful way!”\n“I have been so privileged to attend this training 
 – it was remarkably transformational.”\nParticipants of this course wi
 ll receive:\n• CHANGE YOUR MIND…CREATE NEW RESULTS Workbook written by
  Dr Joe Dispenza.\n• CHANGE YOUR MIND…CREATE NEW RESULTS 30 Days to Ge
 nius Journal\, a powerful guide for the 30 days following the completion o
 f the course.\n• Audio downloadable files of all videos shown of Dr Joe 
 Dispenza during the course.\n• Audio downloadable files of two meditatio
 ns shared during the course\, for your personal use.\n(Please note these w
 orkbooks and meditations are not available for purchase at any other cours
 e or event.)\nSome of the knowledge obtained through this course:\n• Wha
 t is change?\n• How to implement a simple formula to begin making change
 s in your life\n• How to think greater than your body\n• How to think 
 greater than your environment\n• How to think greater than time\n• How
  to move from living in survival to living in creation\n• Understanding 
 your 3 brains that allow you to go from Thinking to Doing to Being and how
  to access your success “sweet spot”\n• How to change your brainwave
 s for optimal performance\n• How to design your successful future self\n
 • How to create your personal 30 days to Genius plan
ATTACH;FMTTYPE=image/jpeg:https://nickmennell.com/wp-content/uploads/2023/
 02/Eventbrite_Banner_-_2021-02-03.jpg
END:VEVENT
BEGIN:VTIMEZONE
TZID:America/New_York
X-LIC-LOCATION:America/New_York
BEGIN:DAYLIGHT
DTSTART:20230312T030000
TZOFFSETFROM:-0500
TZOFFSETTO:-0400
TZNAME:EDT
END:DAYLIGHT
END:VTIMEZONE
END:VCALENDAR