BEGIN:VCALENDAR
VERSION:2.0
PRODID:-//wp-events-plugin.com//7.2.3.1//EN
BEGIN:VEVENT
UID:8@nickmennell.com
DTSTART:20240412T183000Z
DTEND:20240415T023000Z
DTSTAMP:20240227T210655Z
URL:https://nickmennell.com/events/san-francisco/
SUMMARY:SAN FRANCISCO
DESCRIPTION:Details coming soon...
END:VEVENT
END:VCALENDAR